BEGIN:VCALENDAR
VERSION:2.0
PRODID:-//OmeyasTrail - ECPv6.15.20//NONSGML v1.0//EN
CALSCALE:GREGORIAN
METHOD:PUBLISH
X-WR-CALNAME:OmeyasTrail
X-ORIGINAL-URL:https://omeyastrail.es
X-WR-CALDESC:Eventos para OmeyasTrail
REFRESH-INTERVAL;VALUE=DURATION:PT1H
X-Robots-Tag:noindex
X-PUBLISHED-TTL:PT1H
BEGIN:VTIMEZONE
TZID:Europe/Madrid
BEGIN:DAYLIGHT
TZOFFSETFROM:+0100
TZOFFSETTO:+0200
TZNAME:CEST
DTSTART:20250330T010000
END:DAYLIGHT
BEGIN:STANDARD
TZOFFSETFROM:+0200
TZOFFSETTO:+0100
TZNAME:CET
DTSTART:20251026T010000
END:STANDARD
BEGIN:DAYLIGHT
TZOFFSETFROM:+0100
TZOFFSETTO:+0200
TZNAME:CEST
DTSTART:20260329T010000
END:DAYLIGHT
BEGIN:STANDARD
TZOFFSETFROM:+0200
TZOFFSETTO:+0100
TZNAME:CET
DTSTART:20261025T010000
END:STANDARD
BEGIN:DAYLIGHT
TZOFFSETFROM:+0100
TZOFFSETTO:+0200
TZNAME:CEST
DTSTART:20270328T010000
END:DAYLIGHT
BEGIN:STANDARD
TZOFFSETFROM:+0200
TZOFFSETTO:+0100
TZNAME:CET
DTSTART:20271031T010000
END:STANDARD
END:VTIMEZONE
BEGIN:VEVENT
DTSTART;VALUE=DATE:20260201
DTEND;VALUE=DATE:20260202
DTSTAMP:20260425T172238
CREATED:20260126T203441Z
LAST-MODIFIED:20260126T203441Z
UID:6701-1769904000-1769990399@omeyastrail.es
SUMMARY:VII Carrera Solidaria Colegio Séneca
DESCRIPTION:
URL:https://omeyastrail.es/event/vii-carrera-solidaria-colegio-seneca/
LOCATION:Córdoba\, Córdoba\, Córdoba\, España
CATEGORIES:Asfalto
END:VEVENT
END:VCALENDAR