BEGIN:VCALENDAR
VERSION:2.0
PRODID:-//OmeyasTrail - ECPv6.15.20//NONSGML v1.0//EN
CALSCALE:GREGORIAN
METHOD:PUBLISH
X-ORIGINAL-URL:https://omeyastrail.es
X-WR-CALDESC:Eventos para OmeyasTrail
REFRESH-INTERVAL;VALUE=DURATION:PT1H
X-Robots-Tag:noindex
X-PUBLISHED-TTL:PT1H
BEGIN:VTIMEZONE
TZID:Europe/Madrid
BEGIN:DAYLIGHT
TZOFFSETFROM:+0100
TZOFFSETTO:+0200
TZNAME:CEST
DTSTART:20250330T010000
END:DAYLIGHT
BEGIN:STANDARD
TZOFFSETFROM:+0200
TZOFFSETTO:+0100
TZNAME:CET
DTSTART:20251026T010000
END:STANDARD
BEGIN:DAYLIGHT
TZOFFSETFROM:+0100
TZOFFSETTO:+0200
TZNAME:CEST
DTSTART:20260329T010000
END:DAYLIGHT
BEGIN:STANDARD
TZOFFSETFROM:+0200
TZOFFSETTO:+0100
TZNAME:CET
DTSTART:20261025T010000
END:STANDARD
BEGIN:DAYLIGHT
TZOFFSETFROM:+0100
TZOFFSETTO:+0200
TZNAME:CEST
DTSTART:20270328T010000
END:DAYLIGHT
BEGIN:STANDARD
TZOFFSETFROM:+0200
TZOFFSETTO:+0100
TZNAME:CET
DTSTART:20271031T010000
END:STANDARD
END:VTIMEZONE
BEGIN:VEVENT
DTSTART;VALUE=DATE:20260214
DTEND;VALUE=DATE:20260215
DTSTAMP:20260425T172330
CREATED:20251211T112613Z
LAST-MODIFIED:20251229T172055Z
UID:6497-1771027200-1771113599@omeyastrail.es
SUMMARY:CxM Sierra Blanca 2026
DESCRIPTION:Participantes del Club: \n1. Nuria\n2. Guadix\n3. Pablo R\n4. Javi\n5. Chudi\n6. Estrella\n7. Juanjo\n8. Natalia\n9. M.isabel\n10. Ángela\n11. Carlos\n12. Angel G\n13. Miguel MV\n14. Rosa MPC\n15. Yoli\n16. Antonio Reyes\n17. Miguel Angel Nuñez\n18. Pablo Navarro
URL:https://omeyastrail.es/event/cxm-sierra-blanca-2026/
LOCATION:Marbella (Málaga)\, Málaga\, Spain
CATEGORIES:Carreras,Montaña
END:VEVENT
END:VCALENDAR