BEGIN:VCALENDAR
VERSION:2.0
PRODID:-//OmeyasTrail - ECPv6.15.20//NONSGML v1.0//EN
CALSCALE:GREGORIAN
METHOD:PUBLISH
X-ORIGINAL-URL:https://omeyastrail.es
X-WR-CALDESC:Eventos para OmeyasTrail
REFRESH-INTERVAL;VALUE=DURATION:PT1H
X-Robots-Tag:noindex
X-PUBLISHED-TTL:PT1H
BEGIN:VTIMEZONE
TZID:Europe/Madrid
BEGIN:DAYLIGHT
TZOFFSETFROM:+0100
TZOFFSETTO:+0200
TZNAME:CEST
DTSTART:20250330T010000
END:DAYLIGHT
BEGIN:STANDARD
TZOFFSETFROM:+0200
TZOFFSETTO:+0100
TZNAME:CET
DTSTART:20251026T010000
END:STANDARD
BEGIN:DAYLIGHT
TZOFFSETFROM:+0100
TZOFFSETTO:+0200
TZNAME:CEST
DTSTART:20260329T010000
END:DAYLIGHT
BEGIN:STANDARD
TZOFFSETFROM:+0200
TZOFFSETTO:+0100
TZNAME:CET
DTSTART:20261025T010000
END:STANDARD
BEGIN:DAYLIGHT
TZOFFSETFROM:+0100
TZOFFSETTO:+0200
TZNAME:CEST
DTSTART:20270328T010000
END:DAYLIGHT
BEGIN:STANDARD
TZOFFSETFROM:+0200
TZOFFSETTO:+0100
TZNAME:CET
DTSTART:20271031T010000
END:STANDARD
END:VTIMEZONE
BEGIN:VEVENT
DTSTART;VALUE=DATE:20260314
DTEND;VALUE=DATE:20260315
DTSTAMP:20260425T183501
CREATED:20251212T091947Z
LAST-MODIFIED:20251217T191922Z
UID:6511-1773446400-1773532799@omeyastrail.es
SUMMARY:CxM El Santo 2026
DESCRIPTION:
URL:https://omeyastrail.es/event/cxm-el-santo-2026/
LOCATION:Pizarra (Málaga)\, Málaga\, Spain
CATEGORIES:Carreras,Montaña
END:VEVENT
BEGIN:VEVENT
DTSTART;VALUE=DATE:20260314
DTEND;VALUE=DATE:20260315
DTSTAMP:20260425T183501
CREATED:20260125T100112Z
LAST-MODIFIED:20260125T102156Z
UID:6673-1773446400-1773532799@omeyastrail.es
SUMMARY:V CxM de Villaharta 2026
DESCRIPTION: 
URL:https://omeyastrail.es/event/v-cxm-de-villaharta-2026/
LOCATION:Villaharta (Córdoba)
CATEGORIES:Carreras,Montaña
END:VEVENT
BEGIN:VEVENT
DTSTART;VALUE=DATE:20260314
DTEND;VALUE=DATE:20260315
DTSTAMP:20260425T183501
CREATED:20260305T074018Z
LAST-MODIFIED:20260305T075424Z
UID:6850-1773446400-1773532799@omeyastrail.es
SUMMARY:CxM Sierra Elvira
DESCRIPTION:CAMPEONATO DE ANDALUCÍA DE SELECCIONES PROVINCIALES
URL:https://omeyastrail.es/event/cxm-sierra-elvira/
LOCATION:Atarafe (Granada)
CATEGORIES:Carreras,Montaña
END:VEVENT
BEGIN:VEVENT
DTSTART;VALUE=DATE:20260315
DTEND;VALUE=DATE:20260316
DTSTAMP:20260425T183501
CREATED:20260212T180449Z
LAST-MODIFIED:20260212T180449Z
UID:6736-1773532800-1773619199@omeyastrail.es
SUMMARY:II CxM San Juan de la Cruz
DESCRIPTION:
URL:https://omeyastrail.es/event/ii-cxm-san-juan-de-la-cruz/
LOCATION:Beas de Segura\, Beas de Segura\, Jaén\, Spain
END:VEVENT
BEGIN:VEVENT
DTSTART;VALUE=DATE:20260321
DTEND;VALUE=DATE:20260322
DTSTAMP:20260425T183501
CREATED:20251107T203302Z
LAST-MODIFIED:20251107T220307Z
UID:6290-1774051200-1774137599@omeyastrail.es
SUMMARY:Trail Guzmán el Bueno 2026
DESCRIPTION:
URL:https://omeyastrail.es/event/trail-guzman-el-bueno-2026/
LOCATION:Córdoba\, Córdoba\, Córdoba\, España
CATEGORIES:Carreras,Montaña
END:VEVENT
BEGIN:VEVENT
DTSTART;VALUE=DATE:20260321
DTEND;VALUE=DATE:20260322
DTSTAMP:20260425T183501
CREATED:20251217T193241Z
LAST-MODIFIED:20260309T160639Z
UID:6553-1774051200-1774137599@omeyastrail.es
SUMMARY:IX Subbética Trail
DESCRIPTION:
URL:https://omeyastrail.es/event/ix-subbetica-trail/
LOCATION:Zuheros (Córdoba)\, Zuheros\, Córdoba\, Spain
CATEGORIES:Carreras,Montaña
END:VEVENT
BEGIN:VEVENT
DTSTART;VALUE=DATE:20260328
DTEND;VALUE=DATE:20260329
DTSTAMP:20260425T183501
CREATED:20260305T072352Z
LAST-MODIFIED:20260305T074449Z
UID:6834-1774656000-1774742399@omeyastrail.es
SUMMARY:Maraton Subbética Mozárabe
DESCRIPTION:
URL:https://omeyastrail.es/event/maraton-subbetica-mozarabe/
LOCATION:Doña Mencia (Córdoba)
CATEGORIES:Carreras,Montaña
END:VEVENT
BEGIN:VEVENT
DTSTART;VALUE=DATE:20260410
DTEND;VALUE=DATE:20260413
DTSTAMP:20260425T183501
CREATED:20260126T204641Z
LAST-MODIFIED:20260305T074515Z
UID:6707-1775779200-1776038399@omeyastrail.es
SUMMARY:Ultra Sierra Nevada
DESCRIPTION:Participantes del Club: \nNatalia MP
URL:https://omeyastrail.es/event/ultra-sierra-nevada/
LOCATION:Pradollano (Granada)
CATEGORIES:Carreras,Montaña
END:VEVENT
BEGIN:VEVENT
DTSTART;VALUE=DATE:20260411
DTEND;VALUE=DATE:20260412
DTSTAMP:20260425T183501
CREATED:20260305T074312Z
LAST-MODIFIED:20260305T074540Z
UID:6855-1775865600-1775951999@omeyastrail.es
SUMMARY:Calamorro Skyrace 2026
DESCRIPTION:
URL:https://omeyastrail.es/event/calamorro-skyrace-2026/
LOCATION:Benalmadena (Málaga)
CATEGORIES:Carreras,Montaña
END:VEVENT
BEGIN:VEVENT
DTSTART;VALUE=DATE:20260412
DTEND;VALUE=DATE:20260413
DTSTAMP:20260425T183501
CREATED:20260305T073001Z
LAST-MODIFIED:20260305T074602Z
UID:6843-1775952000-1776038399@omeyastrail.es
SUMMARY:IV CXM Sierras de Baena
DESCRIPTION:
URL:https://omeyastrail.es/event/iv-cxm-sierras-de-baena/
LOCATION:Baena (Córdoba)
CATEGORIES:Carreras,Montaña
END:VEVENT
BEGIN:VEVENT
DTSTART;VALUE=DATE:20260418
DTEND;VALUE=DATE:20260420
DTSTAMP:20260425T183501
CREATED:20260126T225756Z
LAST-MODIFIED:20260126T225900Z
UID:6717-1776470400-1776643199@omeyastrail.es
SUMMARY:BACKYARD ULTRA CORDOBA 2026
DESCRIPTION:  \n \n 
URL:https://omeyastrail.es/event/backyard-ultra-cordoba-2026/
LOCATION:Córdoba\, Córdoba\, Córdoba\, España
CATEGORIES:Carreras,Montaña
END:VEVENT
BEGIN:VEVENT
DTSTART;VALUE=DATE:20260419
DTEND;VALUE=DATE:20260420
DTSTAMP:20260425T183501
CREATED:20260319T211523Z
LAST-MODIFIED:20260319T211523Z
UID:6913-1776556800-1776643199@omeyastrail.es
SUMMARY:IV Palmital Posadas Trail
DESCRIPTION:
URL:https://omeyastrail.es/event/iv-palmital-posadas-trail/
LOCATION:Posadas (Córdoba)
CATEGORIES:Carreras,Montaña
END:VEVENT
BEGIN:VEVENT
DTSTART;VALUE=DATE:20260426
DTEND;VALUE=DATE:20260427
DTSTAMP:20260425T183501
CREATED:20260305T080227Z
LAST-MODIFIED:20260305T080227Z
UID:6864-1777161600-1777247999@omeyastrail.es
SUMMARY:Subida al pico "El Chullo"
DESCRIPTION:
URL:https://omeyastrail.es/event/subida-al-pico-el-chullo/
LOCATION:Puerto de la Ragua (Almería)
CATEGORIES:Club,Salida Grupal
END:VEVENT
BEGIN:VEVENT
DTSTART;VALUE=DATE:20260502
DTEND;VALUE=DATE:20260503
DTSTAMP:20260425T183501
CREATED:20260415T195332Z
LAST-MODIFIED:20260415T200243Z
UID:7028-1777680000-1777766399@omeyastrail.es
SUMMARY:V CxM Trabuco Trail
DESCRIPTION:
URL:https://omeyastrail.es/event/v-cxm-trabuco-trail/
LOCATION:Villanueva del Trabuco (Málaga)\, Villanueva del Trabuco\, Málaga\, Spain
END:VEVENT
BEGIN:VEVENT
DTSTART;TZID=Europe/Madrid:20260509T080000
DTEND;TZID=Europe/Madrid:20260510T170000
DTSTAMP:20260425T183501
CREATED:20260317T105130Z
LAST-MODIFIED:20260317T105130Z
UID:6911-1778313600-1778432400@omeyastrail.es
SUMMARY:101 KM Ronda La Legión. Ronda (Málaga).
DESCRIPTION:
URL:https://omeyastrail.es/event/101-km-ronda-la-legion-ronda-malaga/
LOCATION:Málaga
END:VEVENT
BEGIN:VEVENT
DTSTART;VALUE=DATE:20260530
DTEND;VALUE=DATE:20260531
DTSTAMP:20260425T183501
CREATED:20251217T225822Z
LAST-MODIFIED:20251217T225849Z
UID:6559-1780099200-1780185599@omeyastrail.es
SUMMARY:Ultra Trail Bosques del Sur (Ultra y Maratón)
DESCRIPTION:
URL:https://omeyastrail.es/event/ultra-trail-bosques-del-sur/
LOCATION:Cazorla (Jaén)\, Spain
CATEGORIES:Carreras,Montaña
END:VEVENT
BEGIN:VEVENT
DTSTART;VALUE=DATE:20260606
DTEND;VALUE=DATE:20260607
DTSTAMP:20260425T183501
CREATED:20251217T230045Z
LAST-MODIFIED:20251217T230045Z
UID:6565-1780704000-1780790399@omeyastrail.es
SUMMARY:Ultra Trail Bosques del Sur (Trail y Mini Trail)
DESCRIPTION:
URL:https://omeyastrail.es/event/ultra-trail-bosques-del-sur-trail-y-mini-trail/
LOCATION:Cazorla (Jaén)\, Spain
CATEGORIES:Carreras,Montaña
END:VEVENT
BEGIN:VEVENT
DTSTART;VALUE=DATE:20260627
DTEND;VALUE=DATE:20260628
DTSTAMP:20260425T183501
CREATED:20260319T212318Z
LAST-MODIFIED:20260319T212318Z
UID:6921-1782518400-1782604799@omeyastrail.es
SUMMARY:IX Carrera Nocturna Subida al Castillo de Almodovar del Río
DESCRIPTION:
URL:https://omeyastrail.es/event/ix-carrera-nocturna-subida-al-castillo-de-almodovar-del-rio/
LOCATION:Almodovar del Rio (Córdoba)
CATEGORIES:Asfalto,Carreras
END:VEVENT
END:VCALENDAR