BEGIN:VCALENDAR
VERSION:2.0
PRODID:-//OmeyasTrail - ECPv6.15.20//NONSGML v1.0//EN
CALSCALE:GREGORIAN
METHOD:PUBLISH
X-WR-CALNAME:OmeyasTrail
X-ORIGINAL-URL:https://omeyastrail.es
X-WR-CALDESC:Eventos para OmeyasTrail
REFRESH-INTERVAL;VALUE=DURATION:PT1H
X-Robots-Tag:noindex
X-PUBLISHED-TTL:PT1H
BEGIN:VTIMEZONE
TZID:Europe/Madrid
BEGIN:DAYLIGHT
TZOFFSETFROM:+0100
TZOFFSETTO:+0200
TZNAME:CEST
DTSTART:20210328T010000
END:DAYLIGHT
BEGIN:STANDARD
TZOFFSETFROM:+0200
TZOFFSETTO:+0100
TZNAME:CET
DTSTART:20211031T010000
END:STANDARD
BEGIN:DAYLIGHT
TZOFFSETFROM:+0100
TZOFFSETTO:+0200
TZNAME:CEST
DTSTART:20220327T010000
END:DAYLIGHT
BEGIN:STANDARD
TZOFFSETFROM:+0200
TZOFFSETTO:+0100
TZNAME:CET
DTSTART:20221030T010000
END:STANDARD
BEGIN:DAYLIGHT
TZOFFSETFROM:+0100
TZOFFSETTO:+0200
TZNAME:CEST
DTSTART:20230326T010000
END:DAYLIGHT
BEGIN:STANDARD
TZOFFSETFROM:+0200
TZOFFSETTO:+0100
TZNAME:CET
DTSTART:20231029T010000
END:STANDARD
BEGIN:DAYLIGHT
TZOFFSETFROM:+0100
TZOFFSETTO:+0200
TZNAME:CEST
DTSTART:20240331T010000
END:DAYLIGHT
BEGIN:STANDARD
TZOFFSETFROM:+0200
TZOFFSETTO:+0100
TZNAME:CET
DTSTART:20241027T010000
END:STANDARD
BEGIN:DAYLIGHT
TZOFFSETFROM:+0100
TZOFFSETTO:+0200
TZNAME:CEST
DTSTART:20250330T010000
END:DAYLIGHT
BEGIN:STANDARD
TZOFFSETFROM:+0200
TZOFFSETTO:+0100
TZNAME:CET
DTSTART:20251026T010000
END:STANDARD
BEGIN:DAYLIGHT
TZOFFSETFROM:+0100
TZOFFSETTO:+0200
TZNAME:CEST
DTSTART:20260329T010000
END:DAYLIGHT
BEGIN:STANDARD
TZOFFSETFROM:+0200
TZOFFSETTO:+0100
TZNAME:CET
DTSTART:20261025T010000
END:STANDARD
END:VTIMEZONE
BEGIN:VEVENT
DTSTART;VALUE=DATE:20251122
DTEND;VALUE=DATE:20251123
DTSTAMP:20260425T162945
CREATED:20251107T202714Z
LAST-MODIFIED:20251107T220225Z
UID:6285-1763769600-1763855999@omeyastrail.es
SUMMARY:XII CxM Tiñosa
DESCRIPTION:
URL:https://omeyastrail.es/event/xii-cxm-tinosa/
LOCATION:Priego de Córdoba (Córdoba)\, Priego de Córdoba\, Córdoba\, Spain
CATEGORIES:Carreras,Montaña
END:VEVENT
BEGIN:VEVENT
DTSTART;VALUE=DATE:20251116
DTEND;VALUE=DATE:20251117
DTSTAMP:20260425T162945
CREATED:20251023T184331Z
LAST-MODIFIED:20251107T220208Z
UID:6213-1763251200-1763337599@omeyastrail.es
SUMMARY:Épora Trail
DESCRIPTION:
URL:https://omeyastrail.es/event/epora-trail/
LOCATION:Montoro (Córdoba)\, Montoro\, Córdoba\, Spain
CATEGORIES:Carreras,Montaña
END:VEVENT
BEGIN:VEVENT
DTSTART;VALUE=DATE:20251109
DTEND;VALUE=DATE:20251110
DTSTAMP:20260425T162945
CREATED:20251023T183252Z
LAST-MODIFIED:20251107T221206Z
UID:6208-1762646400-1762732799@omeyastrail.es
SUMMARY:VII Trail Túrdulos
DESCRIPTION:
URL:https://omeyastrail.es/event/vii-trail-turdulos/
LOCATION:Belalcázar (Córdoba)\, Belalcázar\, Córdoba\, Spain
CATEGORIES:Carreras,Montaña
END:VEVENT
BEGIN:VEVENT
DTSTART;VALUE=DATE:20251102
DTEND;VALUE=DATE:20251103
DTSTAMP:20260425T162945
CREATED:20251023T182042Z
LAST-MODIFIED:20251107T220132Z
UID:6196-1762041600-1762127999@omeyastrail.es
SUMMARY:CxM Castillo de Anzur
DESCRIPTION:
URL:https://omeyastrail.es/event/cxm-castillo-de-anzur/
LOCATION:Puente Genil (Córdoba)\, Spain
CATEGORIES:Carreras,Montaña
END:VEVENT
BEGIN:VEVENT
DTSTART;VALUE=DATE:20251025
DTEND;VALUE=DATE:20251026
DTSTAMP:20260425T162945
CREATED:20251009T221738Z
LAST-MODIFIED:20251023T181701Z
UID:6156-1761350400-1761436799@omeyastrail.es
SUMMARY:CxM Rute 2025
DESCRIPTION:
URL:https://omeyastrail.es/event/cxm-rute/
LOCATION:Rute (Córdoba)\, Spain
CATEGORIES:Carreras,Montaña
END:VEVENT
BEGIN:VEVENT
DTSTART;VALUE=DATE:20230129
DTEND;VALUE=DATE:20230130
DTSTAMP:20260425T162945
CREATED:20221221T195643Z
LAST-MODIFIED:20260125T102225Z
UID:2495-1674950400-1675036799@omeyastrail.es
SUMMARY:VI TRAIL MONTES COMUNALES DE ADAMUZ
DESCRIPTION:
URL:https://omeyastrail.es/event/vi-trail-montes-comunales-de-adamuz/
LOCATION:Montes Comunales Adamuz\, A-421\, s/n\, 14430 Adamuz\, Córdoba\, Adamuz (Córdoba)\, Córdoba\, España
CATEGORIES:Carreras,Montaña
ORGANIZER;CN="Club Trotabad":MAILTO:clubatletismotrotabad@hotmail.com
END:VEVENT
BEGIN:VEVENT
DTSTART;VALUE=DATE:20230114
DTEND;VALUE=DATE:20230115
DTSTAMP:20260425T162945
CREATED:20221221T194520Z
LAST-MODIFIED:20221221T195030Z
UID:2488-1673654400-1673740799@omeyastrail.es
SUMMARY:IV TRAIL MANILVA
DESCRIPTION:
URL:https://omeyastrail.es/event/iv-trail-manilva/
LOCATION:Manilva (Málaga)\, Manilva\, Málaga\, España
CATEGORIES:Carreras,Montaña
ORGANIZER;CN="Club Deportivo Senderista de Manilva %E2%80%9CLos Kruos%E2%80%9D":MAILTO:serrymanilva@hotmail.es
END:VEVENT
BEGIN:VEVENT
DTSTART;TZID=Europe/Madrid:20221231T150000
DTEND;TZID=Europe/Madrid:20221231T180000
DTSTAMP:20260425T162945
CREATED:20221117T195129Z
LAST-MODIFIED:20221201T214604Z
UID:1949-1672498800-1672509600@omeyastrail.es
SUMMARY:XXXVIII SAN SILVESTRE CORDOBESA
DESCRIPTION:Distancia: 10K
URL:https://omeyastrail.es/event/xxxviii-san-silvestre-cordobesa/
LOCATION:Parque Figueroa (Córdoba)\, Avenida del Mediterráneo\, 4\, Córdoba\, 14011\, España
CATEGORIES:Asfalto,Carreras
END:VEVENT
BEGIN:VEVENT
DTSTART;TZID=Europe/Madrid:20221218T100000
DTEND;TZID=Europe/Madrid:20221218T140000
DTSTAMP:20260425T162945
CREATED:20221114T180543Z
LAST-MODIFIED:20221115T231805Z
UID:1854-1671357600-1671372000@omeyastrail.es
SUMMARY:IX SUBIDA A LAS ERMITAS
DESCRIPTION:Distancia: 13\,5km
URL:https://omeyastrail.es/event/ix-subida-a-las-ermitas/
LOCATION:Córdoba\, Córdoba\, Córdoba\, España
CATEGORIES:Asfalto,Carreras
ORGANIZER;CN="Amigos del coche escoba":MAILTO:info@amigosdelcochescoba.com
END:VEVENT
BEGIN:VEVENT
DTSTART;TZID=Europe/Madrid:20221218T090000
DTEND;TZID=Europe/Madrid:20221218T160000
DTSTAMP:20260425T162945
CREATED:20221114T182217Z
LAST-MODIFIED:20221114T214330Z
UID:1859-1671354000-1671379200@omeyastrail.es
SUMMARY:IV TRAIL TURDULOS
DESCRIPTION:Trail Largo: 22\,5Km (700+)\n\n\n\nTrail Corto: 15Km (400+)\n\n\n\nSenderistas: 15Km
URL:https://omeyastrail.es/event/iv-trail-turdulos/
LOCATION:Belalcázar (Córdoba)\, Belalcázar\, España
CATEGORIES:Carreras,Montaña
END:VEVENT
BEGIN:VEVENT
DTSTART;TZID=Europe/Madrid:20221216T210000
DTEND;TZID=Europe/Madrid:20221216T233000
DTSTAMP:20260425T162945
CREATED:20221116T180602Z
LAST-MODIFIED:20221116T211246Z
UID:1916-1671224400-1671233400@omeyastrail.es
SUMMARY:Cena de Navidad O〽️eyas Trail
DESCRIPTION:
URL:https://omeyastrail.es/event/cena-de-navidad-omeyas-trail/
LOCATION:Restaurante Mirador del Rio\, Av. Carlos III\, 2\, Córdoba\, Córdoba\, 14014\, España
CATEGORIES:Club,Comida
END:VEVENT
BEGIN:VEVENT
DTSTART;TZID=Europe/Madrid:20221211T090000
DTEND;TZID=Europe/Madrid:20221211T160000
DTSTAMP:20260425T162945
CREATED:20221114T184656Z
LAST-MODIFIED:20221114T214930Z
UID:1872-1670749200-1670774400@omeyastrail.es
SUMMARY:VI CXM TRAIL POZO LOS MOROS
DESCRIPTION:TRail Largo: 20Km (1000+)\n\n\n\nTrail Corto: 12Km (500+)
URL:https://omeyastrail.es/event/vi-cxm-trail-pozo-los-moros/
LOCATION:Bornos (Cádiz)\, Bornos\, Cádiz\, España
CATEGORIES:Carreras,Montaña
ORGANIZER;CN="CD Ciudad del Lago":MAILTO:clubciudaddellago@gmail.com
END:VEVENT
BEGIN:VEVENT
DTSTART;VALUE=DATE:20221211
DTEND;VALUE=DATE:20221212
DTSTAMP:20260425T162945
CREATED:20221201T223831Z
LAST-MODIFIED:20221201T231914Z
UID:2451-1670716800-1670803199@omeyastrail.es
SUMMARY:X TRAIL ALBUÑUELAS MANUEL ANGUITA BAYO
DESCRIPTION:
URL:https://omeyastrail.es/event/x-trail-albunuelas-manuel-anguita-bayo/
LOCATION:Albuñuelas (Granada)\, Albuñuelas\, Granada\, 18659\, España
CATEGORIES:Carreras,Montaña
ORGANIZER;CN="Ayuntamiento de Albu%C3%B1uelas":MAILTO:http://www.xn--albuuelas-o6a.es/
END:VEVENT
BEGIN:VEVENT
DTSTART;TZID=Europe/Madrid:20221206T080000
DTEND;TZID=Europe/Madrid:20221206T150000
DTSTAMP:20260425T162945
CREATED:20221115T230638Z
LAST-MODIFIED:20221115T231056Z
UID:1896-1670313600-1670338800@omeyastrail.es
SUMMARY:CxM FARAJAN 2022
DESCRIPTION:Trail Largo: 23Km (1323+)\n\n\n\nTrail Corto: 11Km (650+)
URL:https://omeyastrail.es/event/cxm-farajan-2022/
LOCATION:Faraján (Málaga)\, Faraján\, Málaga\, España
CATEGORIES:Carreras,Montaña
ORGANIZER;CN="Ayuntamiento de Faraj%C3%A1n":MAILTO:ayuntamiento@farajan.es
END:VEVENT
BEGIN:VEVENT
DTSTART;TZID=Europe/Madrid:20221204T100000
DTEND;TZID=Europe/Madrid:20221204T170000
DTSTAMP:20260425T162945
CREATED:20221116T205239Z
LAST-MODIFIED:20221116T210150Z
UID:1939-1670148000-1670173200@omeyastrail.es
SUMMARY:CXM TRAIL RISCO BLANCO
DESCRIPTION:Trail Largo: 24Km (1050+)
URL:https://omeyastrail.es/event/cxm-trail-risco-blanco/
LOCATION:Almadén de la Plata (Sevilla)\, Almadén de la Plata\, Sevilla\, España
CATEGORIES:Carreras,Montaña
END:VEVENT
BEGIN:VEVENT
DTSTART;TZID=Europe/Madrid:20221204T080000
DTEND;TZID=Europe/Madrid:20221204T150000
DTSTAMP:20260425T162945
CREATED:20221116T204424Z
LAST-MODIFIED:20221116T204449Z
UID:1932-1670140800-1670166000@omeyastrail.es
SUMMARY:ULTRA MARATÓN COSTA DE ALMERIA
DESCRIPTION:Ultra: 75Km (3500+)\n\n\n\nMaratón: 42Km (1523+)\n\n\n\nTrail: 32Km (869+)
URL:https://omeyastrail.es/event/ultra-maraton-costa-de-almeria/
LOCATION:Aguamarga (Almería)\, Aguamarga\, Almería\, España
CATEGORIES:Carreras,Montaña
ORGANIZER;CN="CD AQUEATACAMOS":MAILTO:organizacion@aqueatacamos.com
END:VEVENT
BEGIN:VEVENT
DTSTART;TZID=Europe/Madrid:20221204T000000
DTEND;TZID=Europe/Madrid:20221204T000000
DTSTAMP:20260425T162945
CREATED:20221126T222240Z
LAST-MODIFIED:20221126T222240Z
UID:2026-1670112000-1670112000@omeyastrail.es
SUMMARY:VIII TRAIL CRUZ DEL VALLE
DESCRIPTION:FALSE
URL:https://omeyastrail.es/event/viii-trail-cruz-del-valle/
LOCATION:San José del Valle (Cádiz)\, Antonio Ramírez s/n\, San José del Valle\, 11580\, Spain
CATEGORIES:Carreras
ORGANIZER;CN="Club Deportivo Cruz del Valle":MAILTO:cruzdelvalleclubdeportivo@gmail.com
END:VEVENT
BEGIN:VEVENT
DTSTART;TZID=Europe/Madrid:20221204T000000
DTEND;TZID=Europe/Madrid:20221204T000000
DTSTAMP:20260425T162945
CREATED:20221124T222207Z
LAST-MODIFIED:20221126T222240Z
UID:2002-1670112000-1670112000@omeyastrail.es
SUMMARY:VI GEOTRAIL IULIA GEMELLA
DESCRIPTION:FALSE
URL:https://omeyastrail.es/event/vi-geotrail-iulia-gemella/
LOCATION:Guadix (Granada)\, Guadix\, 18500\, Spain
CATEGORIES:Carreras
ORGANIZER;CN="Club de Monta%C3%B1a ACCILANT":MAILTO:clubdemontanaaccilant@gmail.com. 6
END:VEVENT
BEGIN:VEVENT
DTSTART;TZID=Europe/Madrid:20221203T093000
DTEND;TZID=Europe/Madrid:20221203T150000
DTSTAMP:20260425T162945
CREATED:20221116T200732Z
LAST-MODIFIED:20221116T203449Z
UID:1923-1670059800-1670079600@omeyastrail.es
SUMMARY:VII CXM ALMONASTER LA REAL
DESCRIPTION:Trail Largo: 25Km ()\n\n\n\nTrail Corto: 10Km ()
URL:https://omeyastrail.es/event/vii-cxm-almonaster-la-real/
LOCATION:Almonaster la Real (Huelva)\, Almonaster la Real\, Huelva\, España
CATEGORIES:Carreras,Montaña
END:VEVENT
BEGIN:VEVENT
DTSTART;TZID=Europe/Madrid:20221127T100000
DTEND;TZID=Europe/Madrid:20221127T160000
DTSTAMP:20260425T162945
CREATED:20221115T233139Z
LAST-MODIFIED:20221115T233219Z
UID:1907-1669543200-1669564800@omeyastrail.es
SUMMARY:VII CxM SIERRA DE ALBARRACIN
DESCRIPTION:Trail Largo: 24Km (1400+)\n\n\n\nTrail Corto: 15Km (800+)
URL:https://omeyastrail.es/event/cxm-sierra-de-albarracin/
LOCATION:El Bosque (Cádiz)\, El Bosque\, Cádiz\, España
CATEGORIES:Carreras,Montaña
ORGANIZER;CN="Ayuntamiento de El Bosque (C%C3%A1diz)":MAILTO:elbosque@dipucadiz.es
END:VEVENT
BEGIN:VEVENT
DTSTART;TZID=Europe/Madrid:20220625T153000
DTEND;TZID=Europe/Madrid:20220625T170000
DTSTAMP:20260425T162945
CREATED:20221123T211617Z
LAST-MODIFIED:20221123T211906Z
UID:1971-1656171000-1656176400@omeyastrail.es
SUMMARY:Prueba 1
DESCRIPTION:Why do you think that she is a witch? He hasn’t got stuff all over him. Well\, I didn’t vote for you. A newt? Look\, my liege! I don’t want to talk to you no more\, you empty-headed animal food trough water! I fart in your general direction! Your mother was a hamster and your father smelt of elderberries! Now leave before I am forced to taunt you a second time!
URL:https://omeyastrail.es/event/__trashed-6/
END:VEVENT
END:VCALENDAR